BEGIN:VCALENDAR
VERSION:2.0
PRODID:-//KYSHRM - ECPv6.15.20//NONSGML v1.0//EN
CALSCALE:GREGORIAN
METHOD:PUBLISH
X-ORIGINAL-URL:https://kyshrm.org
X-WR-CALDESC:Events for KYSHRM
REFRESH-INTERVAL;VALUE=DURATION:PT1H
X-Robots-Tag:noindex
X-PUBLISHED-TTL:PT1H
BEGIN:VTIMEZONE
TZID:America/New_York
BEGIN:DAYLIGHT
TZOFFSETFROM:-0500
TZOFFSETTO:-0400
TZNAME:EDT
DTSTART:20220313T070000
END:DAYLIGHT
BEGIN:STANDARD
TZOFFSETFROM:-0400
TZOFFSETTO:-0500
TZNAME:EST
DTSTART:20221106T060000
END:STANDARD
BEGIN:DAYLIGHT
TZOFFSETFROM:-0500
TZOFFSETTO:-0400
TZNAME:EDT
DTSTART:20230312T070000
END:DAYLIGHT
BEGIN:STANDARD
TZOFFSETFROM:-0400
TZOFFSETTO:-0500
TZNAME:EST
DTSTART:20231105T060000
END:STANDARD
BEGIN:DAYLIGHT
TZOFFSETFROM:-0500
TZOFFSETTO:-0400
TZNAME:EDT
DTSTART:20240310T070000
END:DAYLIGHT
BEGIN:STANDARD
TZOFFSETFROM:-0400
TZOFFSETTO:-0500
TZNAME:EST
DTSTART:20241103T060000
END:STANDARD
END:VTIMEZONE
BEGIN:VEVENT
DTSTART;TZID=America/New_York:20230330T080000
DTEND;TZID=America/New_York:20230330T170000
DTSTAMP:20260420T060812
CREATED:20230124T191543Z
LAST-MODIFIED:20230316T130358Z
UID:10000012-1680163200-1680195600@kyshrm.org
SUMMARY:SKY-SHRM 2023 HR & Management Conference
DESCRIPTION:Come and hear from subject matter experts on topics such as\, “How Smart Leaders Make Habits”\, “Supporting Working Parents and Caregivers”\, “The Future of Talent Acquisition”\, and more! This conference is sure to expand your HR toolkit!
URL:https://kyshrm.org/event/sky-shrm-hr-management-conference-2023/
LOCATION:Southern Kentucky Performing Arts Center\, 601 College Street\, Bowling Green\, KY\, 42101\, United States
CATEGORIES:Conference
END:VEVENT
END:VCALENDAR